Workbook
Name Baisse_des_taux_d_intérêt: 'DATA (Inderdit)'!$I$2:$I$4
Name Chômage_élevé: 'DATA (Inderdit)'!$D$2:$D$4
Name Chômage_faible: 'DATA (Inderdit)'!$G$2:$G$4
Name Contraction: 'DATA (Inderdit)'!$B$2:$B$4
Name Expansion: 'DATA (Inderdit)'!$A$2:$A$4
Name Revenu_inférieur_par_habitant: 'DATA (Inderdit)'!$E$2:$E$4
Name Revenu_par_habitant_plus_élevé: 'DATA (Inderdit)'!$H$2:$H$4
Name Taux_d_intérêt_plus_élevés: 'DATA (Inderdit)'!$F$2:$F$4

Sheet INSTRUCTIONS
A1: Comment le cycle économique affecte votre plan financier
A11: Instructions : Gagner de l'argent - Onglet « Expansion »
A13: 1. Indiquez vos revenus et vos dépenses pour les 4 prochaines années (essayez d'être aussi précis que possible).
A15: 2. Examinez le montant de la dette ou de l'excédent après 4 ans (voir le résultat en bas de page).
A17: 3. Évaluez dans quelle mesure vous avez atteint vos objectifs au cours de la croissance.
A20: Instructions : Gagner de l'argent - Onglet « Contraction »
A21: (AJUSTEZ VOTRE BUDGET EN FONCTION DES SCÉNARIOS POTENTIELS IDENTIFIÉS)
A23: 1. Pour chacun des scénarios que vous avez identifiés, ajoutez ou supprimez les sources de revenus.
A25: 2. Pour chacun des scénarios identifiés, augmentez ou diminuez les postes de dépenses.
A27: 3. Évaluez dans quelle mesure vous avez atteint vos objectifs au cours de la ralentissement.
A30: Instructions : Gagner de l'argent - Onglet « Plan d'action »
A32: 1. Comparez les résultats de votre budget pour chaque période du cycle économique.
A34: 2. Utilisez les menus déroulants de chaque colonne pour élaborer des stratégies et des plans d'action en réponse au cycle économique.

Sheet Gagner de l'argent-Expansion
A1: Comment le cycle économique affecte votre plan financier
A2: Gagner de l'argent seulement - Expansion
B4: Année | G4: Instructions:
A5: Catégories | B5: 1 | C5: 2 | D5: 3 | E5: 4
A6: Revenu | G6: 1. Indiquez vos revenus et vos dépenses pour les 4 prochaines années (essayez d'être aussi précis que possible).
A7: Emploi à temps plein
A8: Emploi à temps partiel | G8: 2. Examinez le montant de la dette ou de l'excédent après 4 ans (voir le résultat en bas de page).
A9: Emploi à temps partiel
A10: Fonds des parents | G10: 3. Évaluez dans quelle mesure vous avez atteint vos objectifs au cours de cette période d'expansion en répondant aux questions ci-dessous :
A13: REVENU TOTAL | B13: =SUM(B7:B12) -> 0 | C13: =SUM(C7:C12) -> 0 | D13: =SUM(D7:D12) -> 0 | E13: =SUM(E7:E12) -> 0 | G13: Évaluer les objectifs :
G14: Dans quelle mesure avez-vous atteint les objectifs suivants ?
A15: Dépenses fixes
A16: Location ou hébergement | G16: A) | H16: Obtenir un diplôme avec un minimum de dettes ou un excédent
A17: Internet/câble | H17: Vos résultats : | I17: =B52 -> 0
A18: Téléphone portable
A19: Service(s) de diffusion en continu | H19: Quels sont les défis ou les avantages que vous rencontrerez (veuillez les noter ci-dessous) ?
A20: Paiement de la voiture | H20: Reportez-vous au document « Que faire ? » si vous avez besoin d'idées :
A21: Assurance automobile
A22: Transport
G25: B) | H25: Vivre selon ses moyens
H26: Vos résultats : | I26: Année 1 | J26: Année 2 | K26: Année 3 | L26: Année 4
I27: =B50 -> 0 | J27: =C50 -> 0 | K27: =D50 -> 0 | L27: =E50 -> 0
A28: Dépenses variables
A29: Épicerie | H29: Quels sont les défis ou les avantages que vous rencontrerez (veuillez les noter ci-dessous) ?
A30: Sorties au restaurant | H30: Reportez-vous au document « Que faire ? » si vous avez besoin d'idées :
A31: Services publics
A32: Stationnement
A33: Essence
A34: Livres
A35: Fournitures scolaires | G35: C) | H35: Constituer un fonds d'urgence
A36: Divertissement | H36: Vos résultats : | I36: =B71 -> 0
A37: Achats personnels
A38: Articles ménagers | H38: Quels sont les défis ou les avantages que vous rencontrerez (veuillez les noter ci-dessous) ?
A39: Lavage | H39: Reportez-vous au document « Que faire ? » si vous avez besoin d'idées :
A40: Dépenses médicales
A41: Dépôt d'épargne
A42: Dépôts de placement
G44: D) | H44: Investir pour la retraite
H45: Vos résultats : | I45: =B35 -> 0
A47: TOTAL DES DÉPENSES | B47: =SUM(B16:B46) -> 0 | C47: =SUM(C16:C46) -> 0 | D47: =SUM(D16:D46) -> 0 | E47: =SUM(E16:E46) -> 0 | H47: Quels sont les défis ou les avantages que vous rencontrerez (veuillez les noter ci-dessous) ?
...

Sheet Gagner de l'argent-Contraction
A1: Comment le cycle économique affecte votre plan financier
A2: Gagner de l'argent seulement - Ralentissement
B4: Année
A5: Catégories | B5: 1 | C5: 2 | D5: 3 | E5: 4
A6: Revenu
A7: Emploi à temps plein | B7: ='Gagner de l''argent-Expansion'!B7 -> 0 | C7: ='Gagner de l''argent-Expansion'!C7 -> 0 | D7: ='Gagner de l''argent-Expansion'!D7 -> 0 | E7: ='Gagner de l''argent-Expansion'!E7 -> 0
A8: Emploi à temps partiel | B8: ='Gagner de l''argent-Expansion'!B8 -> 0 | C8: ='Gagner de l''argent-Expansion'!C8 -> 0 | D8: ='Gagner de l''argent-Expansion'!D8 -> 0 | E8: ='Gagner de l''argent-Expansion'!E8 -> 0
A9: Emploi à temps partiel | B9: ='Gagner de l''argent-Expansion'!B9 -> 0 | C9: ='Gagner de l''argent-Expansion'!C9 -> 0 | D9: ='Gagner de l''argent-Expansion'!D9 -> 0 | E9: ='Gagner de l''argent-Expansion'!E9 -> 0
A10: Fonds des parents | B10: ='Gagner de l''argent-Expansion'!B10 -> 0 | C10: ='Gagner de l''argent-Expansion'!C10 -> 0 | D10: ='Gagner de l''argent-Expansion'!D10 -> 0 | E10: ='Gagner de l''argent-Expansion'!E10 -> 0
B11: ='Gagner de l''argent-Expansion'!B11 -> 0 | C11: ='Gagner de l''argent-Expansion'!C11 -> 0 | D11: ='Gagner de l''argent-Expansion'!D11 -> 0 | E11: ='Gagner de l''argent-Expansion'!E11 -> 0
G12: ✅ Le parent perd son emploi pendant la contraction (supprimer du revenu)
A13: REVENU TOTAL | B13: =SUM(B7:B12) -> 0 | C13: =SUM(C7:C12) -> 0 | D13: =SUM(D7:D12) -> 0 | E13: =SUM(E7:E12) -> 0 | G13: ✅ Il y a moins d'emplois à temps plein ou des licenciements (supprimer les revenus)
G14: ✅ Moins d'emplois à temps partiel existent (supprimer du revenu)
A15: Dépenses fixes | G15: ✅ La concurrence pour des biens/services moins chers augmente (le coût des dépenses augmente)
A16: Location ou hébergement | B16: ='Gagner de l''argent-Expansion'!B16 -> 0 | C16: ='Gagner de l''argent-Expansion'!C16 -> 0 | D16: ='Gagner de l''argent-Expansion'!D16 -> 0 | E16: ='Gagner de l''argent-Expansion'!E16 -> 0
A17: Internet/câble | B17: ='Gagner de l''argent-Expansion'!B17 -> 0 | C17: ='Gagner de l''argent-Expansion'!C17 -> 0 | D17: ='Gagner de l''argent-Expansion'!D17 -> 0 | E17: ='Gagner de l''argent-Expansion'!E17 -> 0 | G17: Expliquez votre raisonnement pour le choix de ces scénarios
A18: Téléphone portable | B18: ='Gagner de l''argent-Expansion'!B18 -> 0 | C18: ='Gagner de l''argent-Expansion'!C18 -> 0 | D18: ='Gagner de l''argent-Expansion'!D18 -> 0 | E18: ='Gagner de l''argent-Expansion'!E18 -> 0
A19: Service(s) de diffusion en continu | B19: ='Gagner de l''argent-Expansion'!B19 -> 0 | C19: ='Gagner de l''argent-Expansion'!C19 -> 0 | D19: ='Gagner de l''argent-Expansion'!D19 -> 0 | E19: ='Gagner de l''argent-Expansion'!E19 -> 0 | G19: Instructions :
A20: Paiement de la voiture | B20: ='Gagner de l''argent-Expansion'!B20 -> 0 | C20: ='Gagner de l''argent-Expansion'!C20 -> 0 | D20: ='Gagner de l''argent-Expansion'!D20 -> 0 | E20: ='Gagner de l''argent-Expansion'!E20 -> 0
A21: Assurance automobile | B21: ='Gagner de l''argent-Expansion'!B21 -> 0 | C21: ='Gagner de l''argent-Expansion'!C21 -> 0 | D21: ='Gagner de l''argent-Expansion'!D21 -> 0 | E21: ='Gagner de l''argent-Expansion'!E21 -> 0 | G21: MAINTENANT QUE VOUS AVEZ IDENTIFIÉ LES SCÉNARIOS POSSIBLES EN CAS DE CONTRACTION, ADAPTEZ VOTRE BUDGET
A22: Transport | B22: ='Gagner de l''argent-Expansion'!B22 -> 0 | C22: ='Gagner de l''argent-Expansion'!C22 -> 0 | D22: ='Gagner de l''argent-Expansion'!D22 -> 0 | E22: ='Gagner de l''argent-Expansion'!E22 -> 0
B23: ='Gagner de l''argent-Expansion'!B23 -> 0 | C23: ='Gagner de l''argent-Expansion'!C23 -> 0 | D23: ='Gagner de l''argent-Expansion'!D23 -> 0 | E23: ='Gagner de l''argent-Expansion'!E23 -> 0 | G23: 1. Pour chacun des scénarios que vous avez identifiés, ajoutez ou supprimez les sources de revenus.
B24: ='Gagner de l''argent-Expansion'!B24 -> 0 | C24: ='Gagner de l''argent-Expansion'!C24 -> 0 | D24: ='Gagner de l''argent-Expansion'!D24 -> 0 | E24: ='Gagner de l''argent-Expansion'!E24 -> 0
B25: ='Gagner de l''argent-Expansion'!B25 -> 0 | C25: ='Gagner de l''argent-Expansion'!C25 -> 0 | D25: ='Gagner de l''argent-Expansion'!D25 -> 0 | E25: ='Gagner de l''argent-Expansion'!E25 -> 0 | G25: 2. Pour chacun des scénarios identifiés, augmentez ou diminuez les postes de dépenses.
G27: 3. Évaluez dans quelle mesure vous avez atteint vos objectifs au cours de cette période de contraction en répondant aux questions ci-dessous :
A28: Dépenses variables
A29: Épicerie | B29: ='Gagner de l''argent-Expansion'!B29 -> 0 | C29: ='Gagner de l''argent-Expansion'!C29 -> 0 | D29: ='Gagner de l''argent-Expansion'!D29 -> 0 | E29: ='Gagner de l''argent-Expansion'!E29 -> 0
A30: Sorties au restaurant | B30: ='Gagner de l''argent-Expansion'!B30 -> 0 | C30: ='Gagner de l''argent-Expansion'!C30 -> 0 | D30: ='Gagner de l''argent-Expansion'!D30 -> 0 | E30: ='Gagner de l''argent-Expansion'!E30 -> 0 | G30: Évaluer les objectifs :
A31: Services publics | B31: ='Gagner de l''argent-Expansion'!B31 -> 0 | C31: ='Gagner de l''argent-Expansion'!C31 -> 0 | D31: ='Gagner de l''argent-Expansion'!D31 -> 0 | E31: ='Gagner de l''argent-Expansion'!E31 -> 0 | G31: Dans quelle mesure avez-vous atteint les objectifs suivants ?
A32: Stationnement | B32: ='Gagner de l''argent-Expansion'!B32 -> 0 | C32: ='Gagner de l''argent-Expansion'!C32 -> 0 | D32: ='Gagner de l''argent-Expansion'!D32 -> 0 | E32: ='Gagner de l''argent-Expansion'!E32 -> 0
A33: Essence | B33: ='Gagner de l''argent-Expansion'!B33 -> 0 | C33: ='Gagner de l''argent-Expansion'!C33 -> 0 | D33: ='Gagner de l''argent-Expansion'!D33 -> 0 | E33: ='Gagner de l''argent-Expansion'!E33 -> 0 | G33: A) | H33: Prévoir un achat important à l'avenir
A34: Livres | B34: ='Gagner de l''argent-Expansion'!B34 -> 0 | C34: ='Gagner de l''argent-Expansion'!C34 -> 0 | D34: ='Gagner de l''argent-Expansion'!D34 -> 0 | E34: ='Gagner de l''argent-Expansion'!E34 -> 0 | H34: Vos résultats : | I34: =B52 -> 0
A35: Fournitures scolaires | B35: ='Gagner de l''argent-Expansion'!B35 -> 0 | C35: ='Gagner de l''argent-Expansion'!C35 -> 0 | D35: ='Gagner de l''argent-Expansion'!D35 -> 0 | E35: ='Gagner de l''argent-Expansion'!E35 -> 0
A36: Divertissement | B36: ='Gagner de l''argent-Expansion'!B36 -> 0 | C36: ='Gagner de l''argent-Expansion'!C36 -> 0 | D36: ='Gagner de l''argent-Expansion'!D36 -> 0 | E36: ='Gagner de l''argent-Expansion'!E36 -> 0 | H36: Quels sont les défis ou les avantages que vous rencontrerez (veuillez les noter ci-dessous) ?
A37: Achats personnels | B37: ='Gagner de l''argent-Expansion'!B37 -> 0 | C37: ='Gagner de l''argent-Expansion'!C37 -> 0 | D37: ='Gagner de l''argent-Expansion'!D37 -> 0 | E37: ='Gagner de l''argent-Expansion'!E37 -> 0 | H37: Reportez-vous au document « Que faire ? » si vous avez besoin d'idées :
A38: Articles ménagers | B38: ='Gagner de l''argent-Expansion'!B38 -> 0 | C38: ='Gagner de l''argent-Expansion'!C38 -> 0 | D38: ='Gagner de l''argent-Expansion'!D38 -> 0 | E38: ='Gagner de l''argent-Expansion'!E38 -> 0
A39: Lavage | B39: ='Gagner de l''argent-Expansion'!B39 -> 0 | C39: ='Gagner de l''argent-Expansion'!C39 -> 0 | D39: ='Gagner de l''argent-Expansion'!D39 -> 0 | E39: ='Gagner de l''argent-Expansion'!E39 -> 0
A40: Dépenses médicales | B40: ='Gagner de l''argent-Expansion'!B40 -> 0 | C40: ='Gagner de l''argent-Expansion'!C40 -> 0 | D40: ='Gagner de l''argent-Expansion'!D40 -> 0 | E40: ='Gagner de l''argent-Expansion'!E40 -> 0
A41: Dépôt d'épargne | B41: ='Gagner de l''argent-Expansion'!B41 -> 0 | C41: ='Gagner de l''argent-Expansion'!C41 -> 0 | D41: ='Gagner de l''argent-Expansion'!D41 -> 0 | E41: ='Gagner de l''argent-Expansion'!E41 -> 0
A42: Dépôts de placement | B42: ='Gagner de l''argent-Expansion'!B42 -> 0 | C42: ='Gagner de l''argent-Expansion'!C42 -> 0 | D42: ='Gagner de l''argent-Expansion'!D42 -> 0 | E42: ='Gagner de l''argent-Expansion'!E42 -> 0 | G42: B) | H42: Vivre selon ses moyens
...

Sheet Gagner de l'argent-Pland'action
B1: Sommaire des années d'expansion et de contraction (comparé)
B2: Gagner de l'argent seulement - PLAN D'ACTION
B4: Résumé des données (des feuilles de travail précédentes)
C5: Avoirs ou dette
B6: Expansion | C6: ='Gagner de l''argent-Expansion'!B52 -> 0 | D6: Voici les résultats de votre plan financier pour chaque scénario. Quel scénario vous a permis d'obtenir un meilleur résultat (Expansion ou Contraction) ?
B7: Contraction | C7: ='Gagner de l''argent-Contraction'!B52 -> 0
B10: C'EST LE MOMENT DE SAUVER LA DINDE ! Sur la base de vos résultats, décidez des stratégies les plus appropriées pour vous à l'aide du tableau de décision ci-dessous :
B12: Instructions :
B14: Utiliser les menus déroulants dans chaque colonne : (cliquer sur la cellule)
B15: Remarque : les étapes 1 à 5 doivent être effectuées dans l'ordre.
B17: 1. Sélectionnez le stade du cycle économique dans la colonne Cycle économique.
B19: 2. Sélectionnez ensuite la situation économique qui se présente.
B21: 3. Enfin, sélectionnez une stratégie appropriée pour répondre à la situation économique.
B23: 4. Identifiez une action spécifique que vous devrez entreprendre pour concrétiser la stratégie.
B25: 5. Répétez l'opération jusqu'à ce que vous ayez identifié au moins trois actions qui vous aideront à atteindre vos objectifs.
B28: Cycle économique | C28: Situation économique | D28: Stratégies : | E28: Quelle action spécifique devrez-vous entreprendre ?
B39: ENFIN, utilisez ces informations pour compléter la partie suivante du travail (questions de discussion).

Sheet Lien vers Google Sheet
A1: Pour la version Google Sheet de cette feuille de calcul, téléchargez-la à l'adresse suivante :
A2: https://docs.google.com/spreadsheets/d/1bFNwPgGJq6WwomysGkPhVS6l2Te5hDImZ85Zqb-T3AU/copy

Sheet DATA (Inderdit)
A1: Expansion | B1: Contraction | D1: Chômage_élevé | E1: Revenu_inférieur_par_habitant | F1: Taux_d_intérêt_plus_élevés | G1: Chômage_faible | H1: Revenu_par_habitant_plus_élevé | I1: Baisse_des_taux_d_intérêt
A2: Chômage_faible | B2: Chômage_élevé | D2: Assurance-emploi | E2: Réexaminer les habitudes de dépenses actuelles | F2: Placer l'épargne sur un compte d'épargne à taux d'intérêt élevé | G2: Demander une augmentation ou une promotion | H2: Constituer un fonds d'urgence | I2: Constituer un fonds d'urgence
A3: Revenu_par_habitant_plus_élevé | B3: Revenu_inférieur_par_habitant | D3: Utiliser Meilleurs Emplois Ontario (jusqu'à 28 000 $ de coûts subventionnés) | E3: Éviter les achats importants | F3: Remboursement ou refinancement de prêts à taux variable | G3: Trouver un emploi correspondant à vos compétences et à vos centres d'intérêt | H3: Rembourser ses dettes grâce à un revenu supplémentaire | I3: Bloquer des taux d'intérêt plus bas
A4: Baisse_des_taux_d_intérêt | B4: Taux_d_intérêt_plus_élevés | D4: Envisager des études universitaires ou l'amélioration des compétences | E4: Réduire les dépenses non essentielles | F4: Vendre des titres, acheter des obligations | G4: Trouver un emploi mieux rémunéré | H4: Augmenter l'épargne retraite | I4: Vendre des obligations, acheter des titres
